BEGIN:VCALENDAR
VERSION:2.0
PRODID:-//Yellow Thunder Snowmobile Club - ECPv6.6.3//NONSGML v1.0//EN
CALSCALE:GREGORIAN
METHOD:PUBLISH
X-ORIGINAL-URL:http://yellowthundersnowmobile.clubhosting.org
X-WR-CALDESC:Events for Yellow Thunder Snowmobile Club
REFRESH-INTERVAL;VALUE=DURATION:PT1H
X-Robots-Tag:noindex
X-PUBLISHED-TTL:PT1H
BEGIN:VTIMEZONE
TZID:America/Chicago
BEGIN:DAYLIGHT
TZOFFSETFROM:-0600
TZOFFSETTO:-0500
TZNAME:CDT
DTSTART:20220313T080000
END:DAYLIGHT
BEGIN:STANDARD
TZOFFSETFROM:-0500
TZOFFSETTO:-0600
TZNAME:CST
DTSTART:20221106T070000
END:STANDARD
END:VTIMEZONE
BEGIN:VEVENT
DTSTART;TZID=America/Chicago:20220402T170000
DTEND;TZID=America/Chicago:20220402T233000
DTSTAMP:20260425T160226
CREATED:20220111T024745Z
LAST-MODIFIED:20220111T024854Z
UID:1487-1648918800-1648942200@yellowthundersnowmobile.clubhosting.org
SUMMARY:Winter Raffle
DESCRIPTION:Yellow Thunder will be conducting a winter raffle on April 2nd at the Waddle Inn in Lodi. Tickets will be $100 each which includes two dinners\, four drink tickets\, and one entry into the cash raffle. Dinner catered by Torrey Latham. \nThe event will also include side raffles and DJ\, and will run from 5:00 pm until midnight. Tickets will be available at the January 11th meeting so if you sold tickets in prior years\, please plan on attending the meeting to pick up your tickets to sell.
URL:http://yellowthundersnowmobile.clubhosting.org/event/winter-raffle-2/
LOCATION:Waddle Inn\, 1430 N Main St\, Lodi\, WI\, 53555
END:VEVENT
BEGIN:VEVENT
DTSTART;TZID=America/Chicago:20220412T190000
DTEND;TZID=America/Chicago:20220412T210000
DTSTAMP:20260425T160226
CREATED:20220111T025107Z
LAST-MODIFIED:20220111T025107Z
UID:1489-1649790000-1649797200@yellowthundersnowmobile.clubhosting.org
SUMMARY:Monthly Meeting
DESCRIPTION:
URL:http://yellowthundersnowmobile.clubhosting.org/event/monthly-meeting-7/
LOCATION:Lucky’s on the Lake\, 11579 Highway V\, Lodi\, WI\, 53555\, United States
END:VEVENT
END:VCALENDAR