BEGIN:VCALENDAR
VERSION:2.0
PRODID:-//Yellow Thunder Snowmobile Club - ECPv6.6.3//NONSGML v1.0//EN
CALSCALE:GREGORIAN
METHOD:PUBLISH
X-ORIGINAL-URL:http://yellowthundersnowmobile.clubhosting.org
X-WR-CALDESC:Events for Yellow Thunder Snowmobile Club
REFRESH-INTERVAL;VALUE=DURATION:PT1H
X-Robots-Tag:noindex
X-PUBLISHED-TTL:PT1H
BEGIN:VTIMEZONE
TZID:America/Chicago
BEGIN:DAYLIGHT
TZOFFSETFROM:-0600
TZOFFSETTO:-0500
TZNAME:CDT
DTSTART:20220313T080000
END:DAYLIGHT
BEGIN:STANDARD
TZOFFSETFROM:-0500
TZOFFSETTO:-0600
TZNAME:CST
DTSTART:20221106T070000
END:STANDARD
END:VTIMEZONE
BEGIN:VEVENT
DTSTART;TZID=America/Chicago:20220315T183000
DTEND;TZID=America/Chicago:20220315T203000
DTSTAMP:20260424T015313
CREATED:20220111T024217Z
LAST-MODIFIED:20220222T135922Z
UID:1485-1647369000-1647376200@yellowthundersnowmobile.clubhosting.org
SUMMARY:Annual Meeting
DESCRIPTION:
URL:http://yellowthundersnowmobile.clubhosting.org/event/annual-meeting-4/
LOCATION:Dan & Chris Schoepp Residence\, W12163 County Rd J\, Lodi\, WI\, 53555
END:VEVENT
BEGIN:VEVENT
DTSTART;VALUE=DATE:20220325
DTEND;VALUE=DATE:20220328
DTSTAMP:20260424T015313
CREATED:20220222T140453Z
LAST-MODIFIED:20220222T140511Z
UID:1507-1648166400-1648425599@yellowthundersnowmobile.clubhosting.org
SUMMARY:AWSC Spring Convention
DESCRIPTION:For more information and registration – https://www.awsc.org/Workshop-Convention/2020-Spring-Convention-(1)
URL:http://yellowthundersnowmobile.clubhosting.org/event/awsc-spring-convention/
LOCATION:Radisson Hotel & Convention Center Green Bay\, 2040 Airport Dr\, Green Bay\, WI\, 54313\, United States
END:VEVENT
END:VCALENDAR