BEGIN:VCALENDAR
VERSION:2.0
PRODID:-//Yellow Thunder Snowmobile Club - ECPv6.6.3//NONSGML v1.0//EN
CALSCALE:GREGORIAN
METHOD:PUBLISH
X-ORIGINAL-URL:http://yellowthundersnowmobile.clubhosting.org
X-WR-CALDESC:Events for Yellow Thunder Snowmobile Club
REFRESH-INTERVAL;VALUE=DURATION:PT1H
X-Robots-Tag:noindex
X-PUBLISHED-TTL:PT1H
BEGIN:VTIMEZONE
TZID:America/Chicago
BEGIN:DAYLIGHT
TZOFFSETFROM:-0600
TZOFFSETTO:-0500
TZNAME:CDT
DTSTART:20230312T080000
END:DAYLIGHT
BEGIN:STANDARD
TZOFFSETFROM:-0500
TZOFFSETTO:-0600
TZNAME:CST
DTSTART:20231105T070000
END:STANDARD
END:VTIMEZONE
BEGIN:VEVENT
DTSTART;TZID=America/Chicago:20230407T103000
DTEND;TZID=America/Chicago:20230407T113000
DTSTAMP:20260420T230845
CREATED:20230327T013007Z
LAST-MODIFIED:20230327T013007Z
UID:1643-1680863400-1680867000@yellowthundersnowmobile.clubhosting.org
SUMMARY:Divine Rehabilitation & Nursing Easter Egg Hunt
DESCRIPTION:
URL:http://yellowthundersnowmobile.clubhosting.org/event/divine-rehabilitation-nursing-easter-egg-hunt/
LOCATION:Divine Rehabilitation & Nursing Lodi\, 700 Clark Street\, Lodi\, WI\, 53555\, United States
END:VEVENT
BEGIN:VEVENT
DTSTART;TZID=America/Chicago:20230418T190000
DTEND;TZID=America/Chicago:20230418T210000
DTSTAMP:20260420T230845
CREATED:20230304T161106Z
LAST-MODIFIED:20230408T144755Z
UID:1628-1681844400-1681851600@yellowthundersnowmobile.clubhosting.org
SUMMARY:Monthly Meeting
DESCRIPTION:*Moved from original date of 4/11 due to Board scheduling conflict
URL:http://yellowthundersnowmobile.clubhosting.org/event/monthly-meeting-11/
LOCATION:Waddle Inn\, 1430 N Main St\, Lodi\, WI\, 53555
END:VEVENT
BEGIN:VEVENT
DTSTART;TZID=America/Chicago:20230425T173000
DTEND;TZID=America/Chicago:20230425T183000
DTSTAMP:20260420T230845
CREATED:20230327T013403Z
LAST-MODIFIED:20230408T144328Z
UID:1646-1682443800-1682447400@yellowthundersnowmobile.clubhosting.org
SUMMARY:Adopt-a-Highway Cleanup
DESCRIPTION:**Moved from original date of 4/18 \nMeet at 5:30pm (Intersection of County Line Road and Hwy 113 near RR tracks south of Lodi). \nThis is a great event for kids (and adults!) looking for volunteer opportunities!! (Note: must be at least 11 years old)
URL:http://yellowthundersnowmobile.clubhosting.org/event/adopt-a-highway-cleanup-11/
LOCATION:Hwy 113 RR Tracks
END:VEVENT
END:VCALENDAR